BEGIN:VCALENDAR
VERSION:2.0
PRODID:-//Future Space - ECPv6.15.20//NONSGML v1.0//EN
CALSCALE:GREGORIAN
METHOD:PUBLISH
X-WR-CALNAME:Future Space
X-ORIGINAL-URL:https://www.futurespace.org
X-WR-CALDESC:Veranstaltungen für Future Space
REFRESH-INTERVAL;VALUE=DURATION:PT1H
X-Robots-Tag:noindex
X-PUBLISHED-TTL:PT1H
BEGIN:VTIMEZONE
TZID:Europe/Berlin
BEGIN:DAYLIGHT
TZOFFSETFROM:+0100
TZOFFSETTO:+0200
TZNAME:CEST
DTSTART:20250330T010000
END:DAYLIGHT
BEGIN:STANDARD
TZOFFSETFROM:+0200
TZOFFSETTO:+0100
TZNAME:CET
DTSTART:20251026T010000
END:STANDARD
BEGIN:DAYLIGHT
TZOFFSETFROM:+0100
TZOFFSETTO:+0200
TZNAME:CEST
DTSTART:20260329T010000
END:DAYLIGHT
BEGIN:STANDARD
TZOFFSETFROM:+0200
TZOFFSETTO:+0100
TZNAME:CET
DTSTART:20261025T010000
END:STANDARD
BEGIN:DAYLIGHT
TZOFFSETFROM:+0100
TZOFFSETTO:+0200
TZNAME:CEST
DTSTART:20270328T010000
END:DAYLIGHT
BEGIN:STANDARD
TZOFFSETFROM:+0200
TZOFFSETTO:+0100
TZNAME:CET
DTSTART:20271031T010000
END:STANDARD
END:VTIMEZONE
BEGIN:VEVENT
DTSTART;TZID=Europe/Berlin:20260415T150000
DTEND;TZID=Europe/Berlin:20260415T180000
DTSTAMP:20260421T103429
CREATED:20260413T121819Z
LAST-MODIFIED:20260413T121819Z
UID:3797-1776265200-1776276000@www.futurespace.org
SUMMARY:Chess Craft
DESCRIPTION:Kreatives Bildungsprojekt für Kinder und Jugendliche \nIn dieser Veranstaltungsreihe verbinden wir strategisches Denken mit kreativem Gestalten und digitalen Kompetenzen. \nDie Teilnehmenden lernen schrittweise die Grundlagen des Schachspiels kennen und vertiefen ihre Fähigkeiten durch Übungen\, Partien und ein abschließendes Turnier. Parallel dazu werden sie in die Welt des 3D-Designs eingeführt und entwickeln eigene Schachfiguren mit der Software Tinkercad. \nEin besonderer Fokus liegt auf: \n\nFörderung von Konzentration und mогischem Denken\nKreativität und gestalterischen Fähigkeiten\nGrundlagen digitaler Bildung und 3D-Druck\nTeamarbeit und Fairplay\n\nIm Verlauf des Projekts gestalten die Teilnehmenden eigene Figuren\, bereiten diese für den 3D-Druck vor und setzen ihre Ideen praktisch um. \nAbschluss der Reihe: \n\nKleines Schachturnier\nÖffentliche Präsentation der Ergebnisse\nAusstellung der gestalteten Modelle\nÜbergabe der selbst gedruckten Figuren\n\n📅 Start: Erste Woche nach den Osterferien\n👥 Offen für Anfänger und Fortgeschrittene \nDas Projekt bietet eine einzigartige Kombination aus Spiel\, Technik und Kreativität und stärkt wichtige Zukunftskompetenzen. \n  \n 
URL:https://www.futurespace.org/event/chess-craft/
LOCATION:Future Space\, Wilhelmsstr. 2\, Kassel\, Hessen\, 34117\, Germany
CATEGORIES:Kinder ab 8
ATTACH;FMTTYPE=image/png:https://www.futurespace.org/wp-content/uploads/2026/04/ChatGPT-Image-13.-Apr.-2026-10_58_01.png
END:VEVENT
END:VCALENDAR