BEGIN:VCALENDAR
VERSION:2.0
PRODID:-//Future Space - ECPv6.15.20//NONSGML v1.0//EN
CALSCALE:GREGORIAN
METHOD:PUBLISH
X-WR-CALNAME:Future Space
X-ORIGINAL-URL:https://www.futurespace.org
X-WR-CALDESC:Veranstaltungen für Future Space
REFRESH-INTERVAL;VALUE=DURATION:PT1H
X-Robots-Tag:noindex
X-PUBLISHED-TTL:PT1H
BEGIN:VTIMEZONE
TZID:Europe/Berlin
BEGIN:DAYLIGHT
TZOFFSETFROM:+0100
TZOFFSETTO:+0200
TZNAME:CEST
DTSTART:20250330T010000
END:DAYLIGHT
BEGIN:STANDARD
TZOFFSETFROM:+0200
TZOFFSETTO:+0100
TZNAME:CET
DTSTART:20251026T010000
END:STANDARD
BEGIN:DAYLIGHT
TZOFFSETFROM:+0100
TZOFFSETTO:+0200
TZNAME:CEST
DTSTART:20260329T010000
END:DAYLIGHT
BEGIN:STANDARD
TZOFFSETFROM:+0200
TZOFFSETTO:+0100
TZNAME:CET
DTSTART:20261025T010000
END:STANDARD
BEGIN:DAYLIGHT
TZOFFSETFROM:+0100
TZOFFSETTO:+0200
TZNAME:CEST
DTSTART:20270328T010000
END:DAYLIGHT
BEGIN:STANDARD
TZOFFSETFROM:+0200
TZOFFSETTO:+0100
TZNAME:CET
DTSTART:20271031T010000
END:STANDARD
END:VTIMEZONE
BEGIN:VEVENT
DTSTART;TZID=Europe/Berlin:20260420T160000
DTEND;TZID=Europe/Berlin:20260420T180000
DTSTAMP:20260420T120947
CREATED:20260414T125328Z
LAST-MODIFIED:20260414T125419Z
UID:3809-1776700800-1776708000@www.futurespace.org
SUMMARY:Neugierig und Aktiv bleiben: AR/VR Experience
DESCRIPTION:In dieser Veranstaltung entdecken Sie die faszinierenden Technologien Augmented Reality (AR) und Virtual Reality (VR) und erfahren\, wie sie unsere Wahrnehmung digital erweitern. Anhand verschiedener Beispiele erleben Sie\, wie reale und virtuelle Welten miteinander verschmelzen – ob beim Erkunden von Städten in 3D mit Google Maps\, beim spielerischen Rätselabenteuer mit einem Roboter oder beim Spaziergang als virtuelle Katze durchs Wohnzimmer. Der Vortrag bietet eine anschauliche Einführung in die Funktionsweise und Möglichkeiten dieser modernen Technologien und lädt dazu ein\, AR und VR selbst auszuprobieren. Ideal für alle\, die neugierig auf neue Formen des Lernens\, Erlebens und Entdeckens sind.
URL:https://www.futurespace.org/event/neugierig-und-aktiv-bleiben-ar-vr-experience/
LOCATION:Future Space\, Wilhelmsstr. 2\, Kassel\, Hessen\, 34117\, Germany
CATEGORIES:Erwachsene
ATTACH;FMTTYPE=image/jpeg:https://www.futurespace.org/wp-content/uploads/2024/04/4W6A0842-x.jpg
END:VEVENT
END:VCALENDAR